BEGIN:VCALENDAR
VERSION:2.0
PRODID:icalendar-ruby
CALSCALE:GREGORIAN
METHOD:PUBLISH
BEGIN:VEVENT
DTSTAMP:20260425T212612Z
UID:184-1737990@transformtbay.com
DTSTART:20261106T120000Z
DTEND:20261106T130000Z
CLASS:PUBLIC
CREATED:20260425T171408
DESCRIPTION:Prayer Meeting every Friday at 7:00 AM in person at Transformat
 ion Church (Upstairs)
LAST-MODIFIED:20260425T171408
LOCATION:Transformation Church
SUMMARY:Prayer Group
URL;VALUE=URI:https://www.transformtbay.ca/events/prayer-group/2026-11-06
END:VEVENT
END:VCALENDAR
