BEGIN:VCALENDAR
VERSION:2.0
PRODID:icalendar-ruby
CALSCALE:GREGORIAN
METHOD:PUBLISH
BEGIN:VEVENT
DTSTAMP:20260425T160648Z
UID:184-1736107@transformtbay.com
DTSTART:20261016T110000Z
DTEND:20261016T120000Z
CLASS:PUBLIC
CREATED:20260425T115202
DESCRIPTION:Prayer Meeting every Friday at 7:00 AM in person at Transformat
 ion Church (Upstairs)
LAST-MODIFIED:20260425T115202
LOCATION:Transformation Church
SUMMARY:Prayer Group
URL;VALUE=URI:https://www.transformtbay.ca/events/prayer-group/2026-10-16
END:VEVENT
END:VCALENDAR
